BEGIN:VCALENDAR
VERSION:2.0
PRODID:-//wp-events-plugin.com//6.5//EN
BEGIN:VEVENT
UID:50-10332@budapest.swea.org
DTSTART:20260331T190000Z
DTEND:20260331T220000Z
DTSTAMP:20260316T143108Z
URL:https://budapest.swea.org/events/swea-middag/
SUMMARY:SWEA middag
DESCRIPTION:
END:VEVENT
END:VCALENDAR