BEGIN:VCALENDAR
VERSION:2.0
PRODID:-//wp-events-plugin.com//6.5//EN
BEGIN:VEVENT
UID:50-10609@budapest.swea.org
DTSTART:20260417T163000Z
DTEND:20260417T213000Z
DTSTAMP:20260406T132933Z
URL:https://budapest.swea.org/events/nyfiken-pa-art-nouveau/
SUMMARY:Nyfiken på Art Nouveau
DESCRIPTION:
END:VEVENT
END:VCALENDAR