BEGIN:VCALENDAR
VERSION:2.0
PRODID:-//wp-events-plugin.com//6.5//EN
BEGIN:VEVENT
UID:50-10608@budapest.swea.org
DTSTART:20260415T173000Z
DTEND:20260415T210000Z
DTSTAMP:20260406T132652Z
URL:https://budapest.swea.org/events/arkitekturparlor-i-modernismen-tecken
 /
SUMMARY:Arkitekturpärlor i Modernismen tecken
DESCRIPTION:
END:VEVENT
END:VCALENDAR